{"text_format":"1","workbook":"xlsx","n_sheets":3,"sheets":["Inserimento dati","Liquidazione","Tabelle"],"not_rendered":{"charts":0,"images":0,"macros":1,"external_links":0,"defined_names":3,"comments":0,"pivot_tables":0},"unopened":[],"bounds":{"document_bytes":16777216,"sheet_cells":100000,"rows_first":2000,"rows_last":500,"rows_between":2000,"halvings":0,"cell_chars":16384,"cell_head_chars":4096},"cells_cut":0,"cells_raw":0,"read":"whole","date_system":"1900"}

{"sheet":"Inserimento dati","index":0,"n_rows":40,"n_cols":49,"rows_kept":40,"cut":false,"hidden":false,"merged":[[2,7,2,9],[3,8,3,10],[9,8,9,10],[9,5,9,6],[3,5,3,6],[7,5,7,6],[7,8,7,10]]}
[]
[null,"PROCEDURA"]
[]
[null,null,"Procedura Nr.",null,"Anno",null,null,"Giudice"]
[null,null,null,null,null,null,null,null,null,null,null,null,"Versione 3.0"]
[null,"CUSTODE"]
[]
[null,null,"Prof.Delegato",null,"Nome",null,null,"Cognome"]
[]
[null,null,null,null,"Cod. Fiscale",null,null,"e-mail"]
[]
[null,"FRUTTI CIVILI E RIMBORSO DELLE SPESE"]
[null,null,"Spese",null,"Spese non",null,"Frutti civili"]
[null,null,"imponibili",null,"imponibili",null,"percepiti",null,"Attenzione allegare la documentazione giustificativa delle spese"]
[]
[null,"RIFERIMENTI D.M. 80/2009",null,null,null,null,null,null,null,null,{"$f":"CONCATENATE(\"Procedura \",D4,\"/\",F4)","v":"Procedura /"}]
[null,null,null,"Immobile libero o incarico di ridotta complessità ","Eccezionali difficoltà nello svolgimento dell'incarico espressamente indicate","Cessazione dell'incarico, inefficacia del pignoramento, sospensione o estinzione del processo prima della emissione dell'ordinanza di vendita","Inizio dell'incarico dalla emissione della ordinanza di vendita","Cessazione dell'incarico, inefficacia del pignoramento, sospensione o estinzione del processo prima della vendita","Azioni per la convalida della licenza o dello sfratto per finita locazione o per morosita' e promozione di ogni altra azione, anche esecutiva, occorrente per conseguire la disponibilità del bene","Partecipazione alle assemblee condominiali","Interventi di manutenzione ordinaria o straordinaria","Regolarizzazione catastale, urbanistica ed edilizia degli immobili","Direzione e controllo delle attivita' di asporto e trasferimento presso un depositario delle cose mobili appartenenti al debitore o a terzi rinvenute nell'immobile pignorato","Attuazione dell'ordine di liberazione",null,null,"A min","A med","A max","B min","B med","B max","C min","C med","C max","D min","D med","D max","E min","E med","E max","F min","F med","F max","G min","G med","G max","H min","H med","H max","I min","I med","I max","L min","L med","L max","M min","M med","M max"]
[null,"Lotto","Valore","Art.2","Art.2","Art.2","Art.2","Art.2","Art.3","Art.3","Art.3","Art.3","Art.3","Art.3",null,null,null,null,{"$f":"IF(Y20=0,IF(AB20=0,\"X\",\"\"),\"\")","v":"X"}]
[null,null,null,"comma 4","comma 5","comma 3",null,"comma 3","c. 2, lett. a)","c. 2, lett. b)","c. 2, lett. c) ","c. 2, lett. d) ","c. 2, lett. e) ","c. lett. e) bis"]
[null,"Lotto 01",null,null,null,null,null,null,null,null,null,null,null,null,null,{"$f":"IF(C20>0,IF((C20-VLOOKUP(C20,Tabelle!$B$9:$E$14,1,TRUE))*VLOOKUP(C20,Tabelle!$B$9:$E$14,3,TRUE)+VLOOKUP(C20,Tabelle!$B$9:$E$14,4,TRUE)>250,(C20-VLOOKUP(C20,Tabelle!$B$9:$E$14,1,TRUE))*VLOOKUP(C20,Tabelle!$B$9:$E$14,3,TRUE)+VLOOKUP(C20,Tabelle!$B$9:$E$14,4,TRUE),250),0)","v":0},{"$f":"IF(Z20=0,IF(W20=0,IF(D20=\"X\",P20*-Liquidazione!$N$37,0),0),0)","v":0},{"$f":"IF(X20=0,IF(AA20=0,IF(D20=\"X\",P20*-Liquidazione!$N$38,0),0),0)","v":0},{"$f":"IF(Y20=0,IF(AB20=0,IF(D20=\"X\",P20*-Liquidazione!$N$39,0),0),0)","v":0},{"$f":"IF(E20=\"X\",P20*Liquidazione!$O$37,0)","v":0},{"$f":"IF(E20=\"X\",P20*Liquidazione!$O$38,0)","v":0},{"$f":"IF(E20=\"X\",P20*Liquidazione!$O$39,0)","v":0},{"$f":"IF(F20=\"X\",P20*-Liquidazione!$P$37,0)","v":0},{"$f":"IF(F20=\"X\",P20*-Liquidazione!$P$38,0)","v":0},{"$f":"IF(F20=\"X\",P20*-Liquidazione!$P$39,0)","v":0},{"$f":"IF(G20=\"X\",P20*-Liquidazione!$Q$37,0)","v":0},{"$f":"IF(G20=\"X\",P20*-Liquidazione!$Q$38,0)","v":0},{"$f":"IF(G20=\"X\",P20*-Liquidazione!$Q$39,0)","v":0},{"$f":"IF(H20=\"X\",P20*-Liquidazione!$R$37,0)","v":0},{"$f":"IF(H20=\"X\",P20*-Liquidazione!$R$38,0)","v":0},{"$f":"IF(H20=\"X\",P20*-Liquidazione!$R$39,0)","v":0},{"$f":"IF(I20=\"X\",P20*Liquidazione!$S$37,0)","v":0},{"$f":"IF(I20=\"X\",P20*Liquidazione!$S$38,0)","v":0},{"$f":"IF(I20=\"X\",P20*Liquidazione!$S$39,0)","v":0},{"$f":"IF(J20=\"X\",P20*Liquidazione!$T$37,0)","v":0},{"$f":"IF(J20=\"X\",P20*Liquidazione!$T$38,0)","v":0},{"$f":"IF(J20=\"X\",P20*Liquidazione!$T$39,0)","v":0},{"$f":"IF(K20=\"X\",P20*Liquidazione!$U$37,0)","v":0},{"$f":"IF(K20=\"X\",P20*Liquidazione!$U$38,0)","v":0},{"$f":"IF(K20=\"X\",P20*Liquidazione!$U$39,0)","v":0},{"$f":"IF(L20=\"X\",P20*Liquidazione!$V$37,0)","v":0},{"$f":"IF(L20=\"X\",P20*Liquidazione!$V$38,0)","v":0},{"$f":"IF(L20=\"X\",P20*Liquidazione!$V$39,0)","v":0},{"$f":"IF(M20=\"X\",P20*Liquidazione!$W$37,0)","v":0},{"$f":"IF(M20=\"X\",P20*Liquidazione!$W$38,0)","v":0},{"$f":"IF(M20=\"X\",P20*Liquidazione!$W$39,0)","v":0},{"$f":"IF(N20=\"X\",P20*Liquidazione!$X$37,0)","v":0},{"$f":"IF(N20=\"X\",P20*Liquidazione!$X$38,0)","v":0},{"$f":"IF(N20=\"X\",P20*Liquidazione!$X$39,0)","v":0}]
[null,"Lotto 02",null,null,null,null,null,null,null,null,null,null,null,null,null,{"$f":"IF(C21>0,IF((C21-VLOOKUP(C21,Tabelle!$B$9:$E$14,1,TRUE))*VLOOKUP(C21,Tabelle!$B$9:$E$14,3,TRUE)+VLOOKUP(C21,Tabelle!$B$9:$E$14,4,TRUE)>250,(C21-VLOOKUP(C21,Tabelle!$B$9:$E$14,1,TRUE))*VLOOKUP(C21,Tabelle!$B$9:$E$14,3,TRUE)+VLOOKUP(C21,Tabelle!$B$9:$E$14,4,TRUE),250),0)","v":0},{"$f":"IF(Z21=0,IF(W21=0,IF(D21=\"X\",P21*-Liquidazione!$N$37,0),0),0)","v":0},{"$f":"IF(X21=0,IF(AA21=0,IF(D21=\"X\",P21*-Liquidazione!$N$38,0),0),0)","v":0},{"$f":"IF(Y21=0,IF(AB21=0,IF(D21=\"X\",P21*-Liquidazione!$N$39,0),0),0)","v":0},{"$f":"IF(E21=\"X\",P21*Liquidazione!$O$37,0)","v":0},{"$f":"IF(E21=\"X\",P21*Liquidazione!$O$38,0)","v":0},{"$f":"IF(E21=\"X\",P21*Liquidazione!$O$39,0)","v":0},{"$f":"IF(F21=\"X\",P21*-Liquidazione!$P$37,0)","v":0},{"$f":"IF(F21=\"X\",P21*-Liquidazione!$P$38,0)","v":0},{"$f":"IF(F21=\"X\",P21*-Liquidazione!$P$39,0)","v":0},{"$f":"IF(G21=\"X\",P21*-Liquidazione!$Q$37,0)","v":0},{"$f":"IF(G21=\"X\",P21*-Liquidazione!$Q$38,0)","v":0},{"$f":"IF(G21=\"X\",P21*-Liquidazione!$Q$39,0)","v":0},{"$f":"IF(H21=\"X\",P21*-Liquidazione!$R$37,0)","v":0},{"$f":"IF(H21=\"X\",P21*-Liquidazione!$R$38,0)","v":0},{"$f":"IF(H21=\"X\",P21*-Liquidazione!$R$39,0)","v":0},{"$f":"IF(I21=\"X\",P21*Liquidazione!$S$37,0)","v":0},{"$f":"IF(I21=\"X\",P21*Liquidazione!$S$38,0)","v":0},{"$f":"IF(I21=\"X\",P21*Liquidazione!$S$39,0)","v":0},{"$f":"IF(J21=\"X\",P21*Liquidazione!$T$37,0)","v":0},{"$f":"IF(J21=\"X\",P21*Liquidazione!$T$38,0)","v":0},{"$f":"IF(J21=\"X\",P21*Liquidazione!$T$39,0)","v":0},{"$f":"IF(K21=\"X\",P21*Liquidazione!$U$37,0)","v":0},{"$f":"IF(K21=\"X\",P21*Liquidazione!$U$38,0)","v":0},{"$f":"IF(K21=\"X\",P21*Liquidazione!$U$39,0)","v":0},{"$f":"IF(L21=\"X\",P21*Liquidazione!$V$37,0)","v":0},{"$f":"IF(L21=\"X\",P21*Liquidazione!$V$38,0)","v":0},{"$f":"IF(L21=\"X\",P21*Liquidazione!$V$39,0)","v":0},{"$f":"IF(M21=\"X\",P21*Liquidazione!$W$37,0)","v":0},{"$f":"IF(M21=\"X\",P21*Liquidazione!$W$38,0)","v":0},{"$f":"IF(M21=\"X\",P21*Liquidazione!$W$39,0)","v":0},{"$f":"IF(N21=\"X\",P21*Liquidazione!$X$37,0)","v":0},{"$f":"IF(N21=\"X\",P21*Liquidazione!$X$38,0)","v":0},{"$f":"IF(N21=\"X\",P21*Liquidazione!$X$39,0)","v":0}]
[null,"Lotto 03",null,null,null,null,null,null,null,null,null,null,null,null,null,{"$f":"IF(C22>0,IF((C22-VLOOKUP(C22,Tabelle!$B$9:$E$14,1,TRUE))*VLOOKUP(C22,Tabelle!$B$9:$E$14,3,TRUE)+VLOOKUP(C22,Tabelle!$B$9:$E$14,4,TRUE)>250,(C22-VLOOKUP(C22,Tabelle!$B$9:$E$14,1,TRUE))*VLOOKUP(C22,Tabelle!$B$9:$E$14,3,TRUE)+VLOOKUP(C22,Tabelle!$B$9:$E$14,4,TRUE),250),0)","v":0},{"$f":"IF(Z22=0,IF(W22=0,IF(D22=\"X\",P22*-Liquidazione!$N$37,0),0),0)","v":0},{"$f":"IF(X22=0,IF(AA22=0,IF(D22=\"X\",P22*-Liquidazione!$N$38,0),0),0)","v":0},{"$f":"IF(Y22=0,IF(AB22=0,IF(D22=\"X\",P22*-Liquidazione!$N$39,0),0),0)","v":0},{"$f":"IF(E22=\"X\",P22*Liquidazione!$O$37,0)","v":0},{"$f":"IF(E22=\"X\",P22*Liquidazione!$O$38,0)","v":0},{"$f":"IF(E22=\"X\",P22*Liquidazione!$O$39,0)","v":0},{"$f":"IF(F22=\"X\",P22*-Liquidazione!$P$37,0)","v":0},{"$f":"IF(F22=\"X\",P22*-Liquidazione!$P$38,0)","v":0},{"$f":"IF(F22=\"X\",P22*-Liquidazione!$P$39,0)","v":0},{"$f":"IF(G22=\"X\",P22*-Liquidazione!$Q$37,0)","v":0},{"$f":"IF(G22=\"X\",P22*-Liquidazione!$Q$38,0)","v":0},{"$f":"IF(G22=\"X\",P22*-Liquidazione!$Q$39,0)","v":0},{"$f":"IF(H22=\"X\",P22*-Liquidazione!$R$37,0)","v":0},{"$f":"IF(H22=\"X\",P22*-Liquidazione!$R$38,0)","v":0},{"$f":"IF(H22=\"X\",P22*-Liquidazione!$R$39,0)","v":0},{"$f":"IF(I22=\"X\",P22*Liquidazione!$S$37,0)","v":0},{"$f":"IF(I22=\"X\",P22*Liquidazione!$S$38,0)","v":0},{"$f":"IF(I22=\"X\",P22*Liquidazione!$S$39,0)","v":0},{"$f":"IF(J22=\"X\",P22*Liquidazione!$T$37,0)","v":0},{"$f":"IF(J22=\"X\",P22*Liquidazione!$T$38,0)","v":0},{"$f":"IF(J22=\"X\",P22*Liquidazione!$T$39,0)","v":0},{"$f":"IF(K22=\"X\",P22*Liquidazione!$U$37,0)","v":0},{"$f":"IF(K22=\"X\",P22*Liquidazione!$U$38,0)","v":0},{"$f":"IF(K22=\"X\",P22*Liquidazione!$U$39,0)","v":0},{"$f":"IF(L22=\"X\",P22*Liquidazione!$V$37,0)","v":0},{"$f":"IF(L22=\"X\",P22*Liquidazione!$V$38,0)","v":0},{"$f":"IF(L22=\"X\",P22*Liquidazione!$V$39,0)","v":0},{"$f":"IF(M22=\"X\",P22*Liquidazione!$W$37,0)","v":0},{"$f":"IF(M22=\"X\",P22*Liquidazione!$W$38,0)","v":0},{"$f":"IF(M22=\"X\",P22*Liquidazione!$W$39,0)","v":0},{"$f":"IF(N22=\"X\",P22*Liquidazione!$X$37,0)","v":0},{"$f":"IF(N22=\"X\",P22*Liquidazione!$X$38,0)","v":0},{"$f":"IF(N22=\"X\",P22*Liquidazione!$X$39,0)","v":0}]
[null,"Lotto 04",null,null,null,null,null,null,null,null,null,null,null,null,null,{"$f":"IF(C23>0,IF((C23-VLOOKUP(C23,Tabelle!$B$9:$E$14,1,TRUE))*VLOOKUP(C23,Tabelle!$B$9:$E$14,3,TRUE)+VLOOKUP(C23,Tabelle!$B$9:$E$14,4,TRUE)>250,(C23-VLOOKUP(C23,Tabelle!$B$9:$E$14,1,TRUE))*VLOOKUP(C23,Tabelle!$B$9:$E$14,3,TRUE)+VLOOKUP(C23,Tabelle!$B$9:$E$14,4,TRUE),250),0)","v":0},{"$f":"IF(Z23=0,IF(W23=0,IF(D23=\"X\",P23*-Liquidazione!$N$37,0),0),0)","v":0},{"$f":"IF(X23=0,IF(AA23=0,IF(D23=\"X\",P23*-Liquidazione!$N$38,0),0),0)","v":0},{"$f":"IF(Y23=0,IF(AB23=0,IF(D23=\"X\",P23*-Liquidazione!$N$39,0),0),0)","v":0},{"$f":"IF(E23=\"X\",P23*Liquidazione!$O$37,0)","v":0},{"$f":"IF(E23=\"X\",P23*Liquidazione!$O$38,0)","v":0},{"$f":"IF(E23=\"X\",P23*Liquidazione!$O$39,0)","v":0},{"$f":"IF(F23=\"X\",P23*-Liquidazione!$P$37,0)","v":0},{"$f":"IF(F23=\"X\",P23*-Liquidazione!$P$38,0)","v":0},{"$f":"IF(F23=\"X\",P23*-Liquidazione!$P$39,0)","v":0},{"$f":"IF(G23=\"X\",P23*-Liquidazione!$Q$37,0)","v":0},{"$f":"IF(G23=\"X\",P23*-Liquidazione!$Q$38,0)","v":0},{"$f":"IF(G23=\"X\",P23*-Liquidazione!$Q$39,0)","v":0},{"$f":"IF(H23=\"X\",P23*-Liquidazione!$R$37,0)","v":0},{"$f":"IF(H23=\"X\",P23*-Liquidazione!$R$38,0)","v":0},{"$f":"IF(H23=\"X\",P23*-Liquidazione!$R$39,0)","v":0},{"$f":"IF(I23=\"X\",P23*Liquidazione!$S$37,0)","v":0},{"$f":"IF(I23=\"X\",P23*Liquidazione!$S$38,0)","v":0},{"$f":"IF(I23=\"X\",P23*Liquidazione!$S$39,0)","v":0},{"$f":"IF(J23=\"X\",P23*Liquidazione!$T$37,0)","v":0},{"$f":"IF(J23=\"X\",P23*Liquidazione!$T$38,0)","v":0},{"$f":"IF(J23=\"X\",P23*Liquidazione!$T$39,0)","v":0},{"$f":"IF(K23=\"X\",P23*Liquidazione!$U$37,0)","v":0},{"$f":"IF(K23=\"X\",P23*Liquidazione!$U$38,0)","v":0},{"$f":"IF(K23=\"X\",P23*Liquidazione!$U$39,0)","v":0},{"$f":"IF(L23=\"X\",P23*Liquidazione!$V$37,0)","v":0},{"$f":"IF(L23=\"X\",P23*Liquidazione!$V$38,0)","v":0},{"$f":"IF(L23=\"X\",P23*Liquidazione!$V$39,0)","v":0},{"$f":"IF(M23=\"X\",P23*Liquidazione!$W$37,0)","v":0},{"$f":"IF(M23=\"X\",P23*Liquidazione!$W$38,0)","v":0},{"$f":"IF(M23=\"X\",P23*Liquidazione!$W$39,0)","v":0},{"$f":"IF(N23=\"X\",P23*Liquidazione!$X$37,0)","v":0},{"$f":"IF(N23=\"X\",P23*Liquidazione!$X$38,0)","v":0},{"$f":"IF(N23=\"X\",P23*Liquidazione!$X$39,0)","v":0}]
[null,"Lotto 05",null,null,null,null,null,null,null,null,null,null,null,null,null,{"$f":"IF(C24>0,IF((C24-VLOOKUP(C24,Tabelle!$B$9:$E$14,1,TRUE))*VLOOKUP(C24,Tabelle!$B$9:$E$14,3,TRUE)+VLOOKUP(C24,Tabelle!$B$9:$E$14,4,TRUE)>250,(C24-VLOOKUP(C24,Tabelle!$B$9:$E$14,1,TRUE))*VLOOKUP(C24,Tabelle!$B$9:$E$14,3,TRUE)+VLOOKUP(C24,Tabelle!$B$9:$E$14,4,TRUE),250),0)","v":0},{"$f":"IF(Z24=0,IF(W24=0,IF(D24=\"X\",P24*-Liquidazione!$N$37,0),0),0)","v":0},{"$f":"IF(X24=0,IF(AA24=0,IF(D24=\"X\",P24*-Liquidazione!$N$38,0),0),0)","v":0},{"$f":"IF(Y24=0,IF(AB24=0,IF(D24=\"X\",P24*-Liquidazione!$N$39,0),0),0)","v":0},{"$f":"IF(E24=\"X\",P24*Liquidazione!$O$37,0)","v":0},{"$f":"IF(E24=\"X\",P24*Liquidazione!$O$38,0)","v":0},{"$f":"IF(E24=\"X\",P24*Liquidazione!$O$39,0)","v":0},{"$f":"IF(F24=\"X\",P24*-Liquidazione!$P$37,0)","v":0},{"$f":"IF(F24=\"X\",P24*-Liquidazione!$P$38,0)","v":0},{"$f":"IF(F24=\"X\",P24*-Liquidazione!$P$39,0)","v":0},{"$f":"IF(G24=\"X\",P24*-Liquidazione!$Q$37,0)","v":0},{"$f":"IF(G24=\"X\",P24*-Liquidazione!$Q$38,0)","v":0},{"$f":"IF(G24=\"X\",P24*-Liquidazione!$Q$39,0)","v":0},{"$f":"IF(H24=\"X\",P24*-Liquidazione!$R$37,0)","v":0},{"$f":"IF(H24=\"X\",P24*-Liquidazione!$R$38,0)","v":0},{"$f":"IF(H24=\"X\",P24*-Liquidazione!$R$39,0)","v":0},{"$f":"IF(I24=\"X\",P24*Liquidazione!$S$37,0)","v":0},{"$f":"IF(I24=\"X\",P24*Liquidazione!$S$38,0)","v":0},{"$f":"IF(I24=\"X\",P24*Liquidazione!$S$39,0)","v":0},{"$f":"IF(J24=\"X\",P24*Liquidazione!$T$37,0)","v":0},{"$f":"IF(J24=\"X\",P24*Liquidazione!$T$38,0)","v":0},{"$f":"IF(J24=\"X\",P24*Liquidazione!$T$39,0)","v":0},{"$f":"IF(K24=\"X\",P24*Liquidazione!$U$37,0)","v":0},{"$f":"IF(K24=\"X\",P24*Liquidazione!$U$38,0)","v":0},{"$f":"IF(K24=\"X\",P24*Liquidazione!$U$39,0)","v":0},{"$f":"IF(L24=\"X\",P24*Liquidazione!$V$37,0)","v":0},{"$f":"IF(L24=\"X\",P24*Liquidazione!$V$38,0)","v":0},{"$f":"IF(L24=\"X\",P24*Liquidazione!$V$39,0)","v":0},{"$f":"IF(M24=\"X\",P24*Liquidazione!$W$37,0)","v":0},{"$f":"IF(M24=\"X\",P24*Liquidazione!$W$38,0)","v":0},{"$f":"IF(M24=\"X\",P24*Liquidazione!$W$39,0)","v":0},{"$f":"IF(N24=\"X\",P24*Liquidazione!$X$37,0)","v":0},{"$f":"IF(N24=\"X\",P24*Liquidazione!$X$38,0)","v":0},{"$f":"IF(N24=\"X\",P24*Liquidazione!$X$39,0)","v":0}]
[null,"Lotto 06",null,null,null,null,null,null,null,null,null,null,null,null,null,{"$f":"IF(C25>0,IF((C25-VLOOKUP(C25,Tabelle!$B$9:$E$14,1,TRUE))*VLOOKUP(C25,Tabelle!$B$9:$E$14,3,TRUE)+VLOOKUP(C25,Tabelle!$B$9:$E$14,4,TRUE)>250,(C25-VLOOKUP(C25,Tabelle!$B$9:$E$14,1,TRUE))*VLOOKUP(C25,Tabelle!$B$9:$E$14,3,TRUE)+VLOOKUP(C25,Tabelle!$B$9:$E$14,4,TRUE),250),0)","v":0},{"$f":"IF(Z25=0,IF(W25=0,IF(D25=\"X\",P25*-Liquidazione!$N$37,0),0),0)","v":0},{"$f":"IF(X25=0,IF(AA25=0,IF(D25=\"X\",P25*-Liquidazione!$N$38,0),0),0)","v":0},{"$f":"IF(Y25=0,IF(AB25=0,IF(D25=\"X\",P25*-Liquidazione!$N$39,0),0),0)","v":0},{"$f":"IF(E25=\"X\",P25*Liquidazione!$O$37,0)","v":0},{"$f":"IF(E25=\"X\",P25*Liquidazione!$O$38,0)","v":0},{"$f":"IF(E25=\"X\",P25*Liquidazione!$O$39,0)","v":0},{"$f":"IF(F25=\"X\",P25*-Liquidazione!$P$37,0)","v":0},{"$f":"IF(F25=\"X\",P25*-Liquidazione!$P$38,0)","v":0},{"$f":"IF(F25=\"X\",P25*-Liquidazione!$P$39,0)","v":0},{"$f":"IF(G25=\"X\",P25*-Liquidazione!$Q$37,0)","v":0},{"$f":"IF(G25=\"X\",P25*-Liquidazione!$Q$38,0)","v":0},{"$f":"IF(G25=\"X\",P25*-Liquidazione!$Q$39,0)","v":0},{"$f":"IF(H25=\"X\",P25*-Liquidazione!$R$37,0)","v":0},{"$f":"IF(H25=\"X\",P25*-Liquidazione!$R$38,0)","v":0},{"$f":"IF(H25=\"X\",P25*-Liquidazione!$R$39,0)","v":0},{"$f":"IF(I25=\"X\",P25*Liquidazione!$S$37,0)","v":0},{"$f":"IF(I25=\"X\",P25*Liquidazione!$S$38,0)","v":0},{"$f":"IF(I25=\"X\",P25*Liquidazione!$S$39,0)","v":0},{"$f":"IF(J25=\"X\",P25*Liquidazione!$T$37,0)","v":0},{"$f":"IF(J25=\"X\",P25*Liquidazione!$T$38,0)","v":0},{"$f":"IF(J25=\"X\",P25*Liquidazione!$T$39,0)","v":0},{"$f":"IF(K25=\"X\",P25*Liquidazione!$U$37,0)","v":0},{"$f":"IF(K25=\"X\",P25*Liquidazione!$U$38,0)","v":0},{"$f":"IF(K25=\"X\",P25*Liquidazione!$U$39,0)","v":0},{"$f":"IF(L25=\"X\",P25*Liquidazione!$V$37,0)","v":0},{"$f":"IF(L25=\"X\",P25*Liquidazione!$V$38,0)","v":0},{"$f":"IF(L25=\"X\",P25*Liquidazione!$V$39,0)","v":0},{"$f":"IF(M25=\"X\",P25*Liquidazione!$W$37,0)","v":0},{"$f":"IF(M25=\"X\",P25*Liquidazione!$W$38,0)","v":0},{"$f":"IF(M25=\"X\",P25*Liquidazione!$W$39,0)","v":0},{"$f":"IF(N25=\"X\",P25*Liquidazione!$X$37,0)","v":0},{"$f":"IF(N25=\"X\",P25*Liquidazione!$X$38,0)","v":0},{"$f":"IF(N25=\"X\",P25*Liquidazione!$X$39,0)","v":0}]
[null,"Lotto 07",null,null,null,null,null,null,null,null,null,null,null,null,null,{"$f":"IF(C26>0,IF((C26-VLOOKUP(C26,Tabelle!$B$9:$E$14,1,TRUE))*VLOOKUP(C26,Tabelle!$B$9:$E$14,3,TRUE)+VLOOKUP(C26,Tabelle!$B$9:$E$14,4,TRUE)>250,(C26-VLOOKUP(C26,Tabelle!$B$9:$E$14,1,TRUE))*VLOOKUP(C26,Tabelle!$B$9:$E$14,3,TRUE)+VLOOKUP(C26,Tabelle!$B$9:$E$14,4,TRUE),250),0)","v":0},{"$f":"IF(Z26=0,IF(W26=0,IF(D26=\"X\",P26*-Liquidazione!$N$37,0),0),0)","v":0},{"$f":"IF(X26=0,IF(AA26=0,IF(D26=\"X\",P26*-Liquidazione!$N$38,0),0),0)","v":0},{"$f":"IF(Y26=0,IF(AB26=0,IF(D26=\"X\",P26*-Liquidazione!$N$39,0),0),0)","v":0},{"$f":"IF(E26=\"X\",P26*Liquidazione!$O$37,0)","v":0},{"$f":"IF(E26=\"X\",P26*Liquidazione!$O$38,0)","v":0},{"$f":"IF(E26=\"X\",P26*Liquidazione!$O$39,0)","v":0},{"$f":"IF(F26=\"X\",P26*-Liquidazione!$P$37,0)","v":0},{"$f":"IF(F26=\"X\",P26*-Liquidazione!$P$38,0)","v":0},{"$f":"IF(F26=\"X\",P26*-Liquidazione!$P$39,0)","v":0},{"$f":"IF(G26=\"X\",P26*-Liquidazione!$Q$37,0)","v":0},{"$f":"IF(G26=\"X\",P26*-Liquidazione!$Q$38,0)","v":0},{"$f":"IF(G26=\"X\",P26*-Liquidazione!$Q$39,0)","v":0},{"$f":"IF(H26=\"X\",P26*-Liquidazione!$R$37,0)","v":0},{"$f":"IF(H26=\"X\",P26*-Liquidazione!$R$38,0)","v":0},{"$f":"IF(H26=\"X\",P26*-Liquidazione!$R$39,0)","v":0},{"$f":"IF(I26=\"X\",P26*Liquidazione!$S$37,0)","v":0},{"$f":"IF(I26=\"X\",P26*Liquidazione!$S$38,0)","v":0},{"$f":"IF(I26=\"X\",P26*Liquidazione!$S$39,0)","v":0},{"$f":"IF(J26=\"X\",P26*Liquidazione!$T$37,0)","v":0},{"$f":"IF(J26=\"X\",P26*Liquidazione!$T$38,0)","v":0},{"$f":"IF(J26=\"X\",P26*Liquidazione!$T$39,0)","v":0},{"$f":"IF(K26=\"X\",P26*Liquidazione!$U$37,0)","v":0},{"$f":"IF(K26=\"X\",P26*Liquidazione!$U$38,0)","v":0},{"$f":"IF(K26=\"X\",P26*Liquidazione!$U$39,0)","v":0},{"$f":"IF(L26=\"X\",P26*Liquidazione!$V$37,0)","v":0},{"$f":"IF(L26=\"X\",P26*Liquidazione!$V$38,0)","v":0},{"$f":"IF(L26=\"X\",P26*Liquidazione!$V$39,0)","v":0},{"$f":"IF(M26=\"X\",P26*Liquidazione!$W$37,0)","v":0},{"$f":"IF(M26=\"X\",P26*Liquidazione!$W$38,0)","v":0},{"$f":"IF(M26=\"X\",P26*Liquidazione!$W$39,0)","v":0},{"$f":"IF(N26=\"X\",P26*Liquidazione!$X$37,0)","v":0},{"$f":"IF(N26=\"X\",P26*Liquidazione!$X$38,0)","v":0},{"$f":"IF(N26=\"X\",P26*Liquidazione!$X$39,0)","v":0}]
[null,"Lotto 08",null,null,null,null,null,null,null,null,null,null,null,null,null,{"$f":"IF(C27>0,IF((C27-VLOOKUP(C27,Tabelle!$B$9:$E$14,1,TRUE))*VLOOKUP(C27,Tabelle!$B$9:$E$14,3,TRUE)+VLOOKUP(C27,Tabelle!$B$9:$E$14,4,TRUE)>250,(C27-VLOOKUP(C27,Tabelle!$B$9:$E$14,1,TRUE))*VLOOKUP(C27,Tabelle!$B$9:$E$14,3,TRUE)+VLOOKUP(C27,Tabelle!$B$9:$E$14,4,TRUE),250),0)","v":0},{"$f":"IF(Z27=0,IF(W27=0,IF(D27=\"X\",P27*-Liquidazione!$N$37,0),0),0)","v":0},{"$f":"IF(X27=0,IF(AA27=0,IF(D27=\"X\",P27*-Liquidazione!$N$38,0),0),0)","v":0},{"$f":"IF(Y27=0,IF(AB27=0,IF(D27=\"X\",P27*-Liquidazione!$N$39,0),0),0)","v":0},{"$f":"IF(E27=\"X\",P27*Liquidazione!$O$37,0)","v":0},{"$f":"IF(E27=\"X\",P27*Liquidazione!$O$38,0)","v":0},{"$f":"IF(E27=\"X\",P27*Liquidazione!$O$39,0)","v":0},{"$f":"IF(F27=\"X\",P27*-Liquidazione!$P$37,0)","v":0},{"$f":"IF(F27=\"X\",P27*-Liquidazione!$P$38,0)","v":0},{"$f":"IF(F27=\"X\",P27*-Liquidazione!$P$39,0)","v":0},{"$f":"IF(G27=\"X\",P27*-Liquidazione!$Q$37,0)","v":0},{"$f":"IF(G27=\"X\",P27*-Liquidazione!$Q$38,0)","v":0},{"$f":"IF(G27=\"X\",P27*-Liquidazione!$Q$39,0)","v":0},{"$f":"IF(H27=\"X\",P27*-Liquidazione!$R$37,0)","v":0},{"$f":"IF(H27=\"X\",P27*-Liquidazione!$R$38,0)","v":0},{"$f":"IF(H27=\"X\",P27*-Liquidazione!$R$39,0)","v":0},{"$f":"IF(I27=\"X\",P27*Liquidazione!$S$37,0)","v":0},{"$f":"IF(I27=\"X\",P27*Liquidazione!$S$38,0)","v":0},{"$f":"IF(I27=\"X\",P27*Liquidazione!$S$39,0)","v":0},{"$f":"IF(J27=\"X\",P27*Liquidazione!$T$37,0)","v":0},{"$f":"IF(J27=\"X\",P27*Liquidazione!$T$38,0)","v":0},{"$f":"IF(J27=\"X\",P27*Liquidazione!$T$39,0)","v":0},{"$f":"IF(K27=\"X\",P27*Liquidazione!$U$37,0)","v":0},{"$f":"IF(K27=\"X\",P27*Liquidazione!$U$38,0)","v":0},{"$f":"IF(K27=\"X\",P27*Liquidazione!$U$39,0)","v":0},{"$f":"IF(L27=\"X\",P27*Liquidazione!$V$37,0)","v":0},{"$f":"IF(L27=\"X\",P27*Liquidazione!$V$38,0)","v":0},{"$f":"IF(L27=\"X\",P27*Liquidazione!$V$39,0)","v":0},{"$f":"IF(M27=\"X\",P27*Liquidazione!$W$37,0)","v":0},{"$f":"IF(M27=\"X\",P27*Liquidazione!$W$38,0)","v":0},{"$f":"IF(M27=\"X\",P27*Liquidazione!$W$39,0)","v":0},{"$f":"IF(N27=\"X\",P27*Liquidazione!$X$37,0)","v":0},{"$f":"IF(N27=\"X\",P27*Liquidazione!$X$38,0)","v":0},{"$f":"IF(N27=\"X\",P27*Liquidazione!$X$39,0)","v":0}]
[null,"Lotto 09",null,null,null,null,null,null,null,null,null,null,null,null,null,{"$f":"IF(C28>0,IF((C28-VLOOKUP(C28,Tabelle!$B$9:$E$14,1,TRUE))*VLOOKUP(C28,Tabelle!$B$9:$E$14,3,TRUE)+VLOOKUP(C28,Tabelle!$B$9:$E$14,4,TRUE)>250,(C28-VLOOKUP(C28,Tabelle!$B$9:$E$14,1,TRUE))*VLOOKUP(C28,Tabelle!$B$9:$E$14,3,TRUE)+VLOOKUP(C28,Tabelle!$B$9:$E$14,4,TRUE),250),0)","v":0},{"$f":"IF(Z28=0,IF(W28=0,IF(D28=\"X\",P28*-Liquidazione!$N$37,0),0),0)","v":0},{"$f":"IF(X28=0,IF(AA28=0,IF(D28=\"X\",P28*-Liquidazione!$N$38,0),0),0)","v":0},{"$f":"IF(Y28=0,IF(AB28=0,IF(D28=\"X\",P28*-Liquidazione!$N$39,0),0),0)","v":0},{"$f":"IF(E28=\"X\",P28*Liquidazione!$O$37,0)","v":0},{"$f":"IF(E28=\"X\",P28*Liquidazione!$O$38,0)","v":0},{"$f":"IF(E28=\"X\",P28*Liquidazione!$O$39,0)","v":0},{"$f":"IF(F28=\"X\",P28*-Liquidazione!$P$37,0)","v":0},{"$f":"IF(F28=\"X\",P28*-Liquidazione!$P$38,0)","v":0},{"$f":"IF(F28=\"X\",P28*-Liquidazione!$P$39,0)","v":0},{"$f":"IF(G28=\"X\",P28*-Liquidazione!$Q$37,0)","v":0},{"$f":"IF(G28=\"X\",P28*-Liquidazione!$Q$38,0)","v":0},{"$f":"IF(G28=\"X\",P28*-Liquidazione!$Q$39,0)","v":0},{"$f":"IF(H28=\"X\",P28*-Liquidazione!$R$37,0)","v":0},{"$f":"IF(H28=\"X\",P28*-Liquidazione!$R$38,0)","v":0},{"$f":"IF(H28=\"X\",P28*-Liquidazione!$R$39,0)","v":0},{"$f":"IF(I28=\"X\",P28*Liquidazione!$S$37,0)","v":0},{"$f":"IF(I28=\"X\",P28*Liquidazione!$S$38,0)","v":0},{"$f":"IF(I28=\"X\",P28*Liquidazione!$S$39,0)","v":0},{"$f":"IF(J28=\"X\",P28*Liquidazione!$T$37,0)","v":0},{"$f":"IF(J28=\"X\",P28*Liquidazione!$T$38,0)","v":0},{"$f":"IF(J28=\"X\",P28*Liquidazione!$T$39,0)","v":0},{"$f":"IF(K28=\"X\",P28*Liquidazione!$U$37,0)","v":0},{"$f":"IF(K28=\"X\",P28*Liquidazione!$U$38,0)","v":0},{"$f":"IF(K28=\"X\",P28*Liquidazione!$U$39,0)","v":0},{"$f":"IF(L28=\"X\",P28*Liquidazione!$V$37,0)","v":0},{"$f":"IF(L28=\"X\",P28*Liquidazione!$V$38,0)","v":0},{"$f":"IF(L28=\"X\",P28*Liquidazione!$V$39,0)","v":0},{"$f":"IF(M28=\"X\",P28*Liquidazione!$W$37,0)","v":0},{"$f":"IF(M28=\"X\",P28*Liquidazione!$W$38,0)","v":0},{"$f":"IF(M28=\"X\",P28*Liquidazione!$W$39,0)","v":0},{"$f":"IF(N28=\"X\",P28*Liquidazione!$X$37,0)","v":0},{"$f":"IF(N28=\"X\",P28*Liquidazione!$X$38,0)","v":0},{"$f":"IF(N28=\"X\",P28*Liquidazione!$X$39,0)","v":0}]
[null,"Lotto 10",null,null,null,null,null,null,null,null,null,null,null,null,null,{"$f":"IF(C29>0,IF((C29-VLOOKUP(C29,Tabelle!$B$9:$E$14,1,TRUE))*VLOOKUP(C29,Tabelle!$B$9:$E$14,3,TRUE)+VLOOKUP(C29,Tabelle!$B$9:$E$14,4,TRUE)>250,(C29-VLOOKUP(C29,Tabelle!$B$9:$E$14,1,TRUE))*VLOOKUP(C29,Tabelle!$B$9:$E$14,3,TRUE)+VLOOKUP(C29,Tabelle!$B$9:$E$14,4,TRUE),250),0)","v":0},{"$f":"IF(Z29=0,IF(W29=0,IF(D29=\"X\",P29*-Liquidazione!$N$37,0),0),0)","v":0},{"$f":"IF(X29=0,IF(AA29=0,IF(D29=\"X\",P29*-Liquidazione!$N$38,0),0),0)","v":0},{"$f":"IF(Y29=0,IF(AB29=0,IF(D29=\"X\",P29*-Liquidazione!$N$39,0),0),0)","v":0},{"$f":"IF(E29=\"X\",P29*Liquidazione!$O$37,0)","v":0},{"$f":"IF(E29=\"X\",P29*Liquidazione!$O$38,0)","v":0},{"$f":"IF(E29=\"X\",P29*Liquidazione!$O$39,0)","v":0},{"$f":"IF(F29=\"X\",P29*-Liquidazione!$P$37,0)","v":0},{"$f":"IF(F29=\"X\",P29*-Liquidazione!$P$38,0)","v":0},{"$f":"IF(F29=\"X\",P29*-Liquidazione!$P$39,0)","v":0},{"$f":"IF(G29=\"X\",P29*-Liquidazione!$Q$37,0)","v":0},{"$f":"IF(G29=\"X\",P29*-Liquidazione!$Q$38,0)","v":0},{"$f":"IF(G29=\"X\",P29*-Liquidazione!$Q$39,0)","v":0},{"$f":"IF(H29=\"X\",P29*-Liquidazione!$R$37,0)","v":0},{"$f":"IF(H29=\"X\",P29*-Liquidazione!$R$38,0)","v":0},{"$f":"IF(H29=\"X\",P29*-Liquidazione!$R$39,0)","v":0},{"$f":"IF(I29=\"X\",P29*Liquidazione!$S$37,0)","v":0},{"$f":"IF(I29=\"X\",P29*Liquidazione!$S$38,0)","v":0},{"$f":"IF(I29=\"X\",P29*Liquidazione!$S$39,0)","v":0},{"$f":"IF(J29=\"X\",P29*Liquidazione!$T$37,0)","v":0},{"$f":"IF(J29=\"X\",P29*Liquidazione!$T$38,0)","v":0},{"$f":"IF(J29=\"X\",P29*Liquidazione!$T$39,0)","v":0},{"$f":"IF(K29=\"X\",P29*Liquidazione!$U$37,0)","v":0},{"$f":"IF(K29=\"X\",P29*Liquidazione!$U$38,0)","v":0},{"$f":"IF(K29=\"X\",P29*Liquidazione!$U$39,0)","v":0},{"$f":"IF(L29=\"X\",P29*Liquidazione!$V$37,0)","v":0},{"$f":"IF(L29=\"X\",P29*Liquidazione!$V$38,0)","v":0},{"$f":"IF(L29=\"X\",P29*Liquidazione!$V$39,0)","v":0},{"$f":"IF(M29=\"X\",P29*Liquidazione!$W$37,0)","v":0},{"$f":"IF(M29=\"X\",P29*Liquidazione!$W$38,0)","v":0},{"$f":"IF(M29=\"X\",P29*Liquidazione!$W$39,0)","v":0},{"$f":"IF(N29=\"X\",P29*Liquidazione!$X$37,0)","v":0},{"$f":"IF(N29=\"X\",P29*Liquidazione!$X$38,0)","v":0},{"$f":"IF(N29=\"X\",P29*Liquidazione!$X$39,0)","v":0}]
[null,"Lotto 11",null,null,null,null,null,null,null,null,null,null,null,null,null,{"$f":"IF(C30>0,IF((C30-VLOOKUP(C30,Tabelle!$B$9:$E$14,1,TRUE))*VLOOKUP(C30,Tabelle!$B$9:$E$14,3,TRUE)+VLOOKUP(C30,Tabelle!$B$9:$E$14,4,TRUE)>250,(C30-VLOOKUP(C30,Tabelle!$B$9:$E$14,1,TRUE))*VLOOKUP(C30,Tabelle!$B$9:$E$14,3,TRUE)+VLOOKUP(C30,Tabelle!$B$9:$E$14,4,TRUE),250),0)","v":0},{"$f":"IF(Z30=0,IF(W30=0,IF(D30=\"X\",P30*-Liquidazione!$N$37,0),0),0)","v":0},{"$f":"IF(X30=0,IF(AA30=0,IF(D30=\"X\",P30*-Liquidazione!$N$38,0),0),0)","v":0},{"$f":"IF(Y30=0,IF(AB30=0,IF(D30=\"X\",P30*-Liquidazione!$N$39,0),0),0)","v":0},{"$f":"IF(E30=\"X\",P30*Liquidazione!$O$37,0)","v":0},{"$f":"IF(E30=\"X\",P30*Liquidazione!$O$38,0)","v":0},{"$f":"IF(E30=\"X\",P30*Liquidazione!$O$39,0)","v":0},{"$f":"IF(F30=\"X\",P30*-Liquidazione!$P$37,0)","v":0},{"$f":"IF(F30=\"X\",P30*-Liquidazione!$P$38,0)","v":0},{"$f":"IF(F30=\"X\",P30*-Liquidazione!$P$39,0)","v":0},{"$f":"IF(G30=\"X\",P30*-Liquidazione!$Q$37,0)","v":0},{"$f":"IF(G30=\"X\",P30*-Liquidazione!$Q$38,0)","v":0},{"$f":"IF(G30=\"X\",P30*-Liquidazione!$Q$39,0)","v":0},{"$f":"IF(H30=\"X\",P30*-Liquidazione!$R$37,0)","v":0},{"$f":"IF(H30=\"X\",P30*-Liquidazione!$R$38,0)","v":0},{"$f":"IF(H30=\"X\",P30*-Liquidazione!$R$39,0)","v":0},{"$f":"IF(I30=\"X\",P30*Liquidazione!$S$37,0)","v":0},{"$f":"IF(I30=\"X\",P30*Liquidazione!$S$38,0)","v":0},{"$f":"IF(I30=\"X\",P30*Liquidazione!$S$39,0)","v":0},{"$f":"IF(J30=\"X\",P30*Liquidazione!$T$37,0)","v":0},{"$f":"IF(J30=\"X\",P30*Liquidazione!$T$38,0)","v":0},{"$f":"IF(J30=\"X\",P30*Liquidazione!$T$39,0)","v":0},{"$f":"IF(K30=\"X\",P30*Liquidazione!$U$37,0)","v":0},{"$f":"IF(K30=\"X\",P30*Liquidazione!$U$38,0)","v":0},{"$f":"IF(K30=\"X\",P30*Liquidazione!$U$39,0)","v":0},{"$f":"IF(L30=\"X\",P30*Liquidazione!$V$37,0)","v":0},{"$f":"IF(L30=\"X\",P30*Liquidazione!$V$38,0)","v":0},{"$f":"IF(L30=\"X\",P30*Liquidazione!$V$39,0)","v":0},{"$f":"IF(M30=\"X\",P30*Liquidazione!$W$37,0)","v":0},{"$f":"IF(M30=\"X\",P30*Liquidazione!$W$38,0)","v":0},{"$f":"IF(M30=\"X\",P30*Liquidazione!$W$39,0)","v":0},{"$f":"IF(N30=\"X\",P30*Liquidazione!$X$37,0)","v":0},{"$f":"IF(N30=\"X\",P30*Liquidazione!$X$38,0)","v":0},{"$f":"IF(N30=\"X\",P30*Liquidazione!$X$39,0)","v":0}]
[null,"Lotto 12",null,null,null,null,null,null,null,null,null,null,null,null,null,{"$f":"IF(C31>0,IF((C31-VLOOKUP(C31,Tabelle!$B$9:$E$14,1,TRUE))*VLOOKUP(C31,Tabelle!$B$9:$E$14,3,TRUE)+VLOOKUP(C31,Tabelle!$B$9:$E$14,4,TRUE)>250,(C31-VLOOKUP(C31,Tabelle!$B$9:$E$14,1,TRUE))*VLOOKUP(C31,Tabelle!$B$9:$E$14,3,TRUE)+VLOOKUP(C31,Tabelle!$B$9:$E$14,4,TRUE),250),0)","v":0},{"$f":"IF(Z31=0,IF(W31=0,IF(D31=\"X\",P31*-Liquidazione!$N$37,0),0),0)","v":0},{"$f":"IF(X31=0,IF(AA31=0,IF(D31=\"X\",P31*-Liquidazione!$N$38,0),0),0)","v":0},{"$f":"IF(Y31=0,IF(AB31=0,IF(D31=\"X\",P31*-Liquidazione!$N$39,0),0),0)","v":0},{"$f":"IF(E31=\"X\",P31*Liquidazione!$O$37,0)","v":0},{"$f":"IF(E31=\"X\",P31*Liquidazione!$O$38,0)","v":0},{"$f":"IF(E31=\"X\",P31*Liquidazione!$O$39,0)","v":0},{"$f":"IF(F31=\"X\",P31*-Liquidazione!$P$37,0)","v":0},{"$f":"IF(F31=\"X\",P31*-Liquidazione!$P$38,0)","v":0},{"$f":"IF(F31=\"X\",P31*-Liquidazione!$P$39,0)","v":0},{"$f":"IF(G31=\"X\",P31*-Liquidazione!$Q$37,0)","v":0},{"$f":"IF(G31=\"X\",P31*-Liquidazione!$Q$38,0)","v":0},{"$f":"IF(G31=\"X\",P31*-Liquidazione!$Q$39,0)","v":0},{"$f":"IF(H31=\"X\",P31*-Liquidazione!$R$37,0)","v":0},{"$f":"IF(H31=\"X\",P31*-Liquidazione!$R$38,0)","v":0},{"$f":"IF(H31=\"X\",P31*-Liquidazione!$R$39,0)","v":0},{"$f":"IF(I31=\"X\",P31*Liquidazione!$S$37,0)","v":0},{"$f":"IF(I31=\"X\",P31*Liquidazione!$S$38,0)","v":0},{"$f":"IF(I31=\"X\",P31*Liquidazione!$S$39,0)","v":0},{"$f":"IF(J31=\"X\",P31*Liquidazione!$T$37,0)","v":0},{"$f":"IF(J31=\"X\",P31*Liquidazione!$T$38,0)","v":0},{"$f":"IF(J31=\"X\",P31*Liquidazione!$T$39,0)","v":0},{"$f":"IF(K31=\"X\",P31*Liquidazione!$U$37,0)","v":0},{"$f":"IF(K31=\"X\",P31*Liquidazione!$U$38,0)","v":0},{"$f":"IF(K31=\"X\",P31*Liquidazione!$U$39,0)","v":0},{"$f":"IF(L31=\"X\",P31*Liquidazione!$V$37,0)","v":0},{"$f":"IF(L31=\"X\",P31*Liquidazione!$V$38,0)","v":0},{"$f":"IF(L31=\"X\",P31*Liquidazione!$V$39,0)","v":0},{"$f":"IF(M31=\"X\",P31*Liquidazione!$W$37,0)","v":0},{"$f":"IF(M31=\"X\",P31*Liquidazione!$W$38,0)","v":0},{"$f":"IF(M31=\"X\",P31*Liquidazione!$W$39,0)","v":0},{"$f":"IF(N31=\"X\",P31*Liquidazione!$X$37,0)","v":0},{"$f":"IF(N31=\"X\",P31*Liquidazione!$X$38,0)","v":0},{"$f":"IF(N31=\"X\",P31*Liquidazione!$X$39,0)","v":0}]
[null,"Lotto 13",null,null,null,null,null,null,null,null,null,null,null,null,null,{"$f":"IF(C32>0,IF((C32-VLOOKUP(C32,Tabelle!$B$9:$E$14,1,TRUE))*VLOOKUP(C32,Tabelle!$B$9:$E$14,3,TRUE)+VLOOKUP(C32,Tabelle!$B$9:$E$14,4,TRUE)>250,(C32-VLOOKUP(C32,Tabelle!$B$9:$E$14,1,TRUE))*VLOOKUP(C32,Tabelle!$B$9:$E$14,3,TRUE)+VLOOKUP(C32,Tabelle!$B$9:$E$14,4,TRUE),250),0)","v":0},{"$f":"IF(Z32=0,IF(W32=0,IF(D32=\"X\",P32*-Liquidazione!$N$37,0),0),0)","v":0},{"$f":"IF(X32=0,IF(AA32=0,IF(D32=\"X\",P32*-Liquidazione!$N$38,0),0),0)","v":0},{"$f":"IF(Y32=0,IF(AB32=0,IF(D32=\"X\",P32*-Liquidazione!$N$39,0),0),0)","v":0},{"$f":"IF(E32=\"X\",P32*Liquidazione!$O$37,0)","v":0},{"$f":"IF(E32=\"X\",P32*Liquidazione!$O$38,0)","v":0},{"$f":"IF(E32=\"X\",P32*Liquidazione!$O$39,0)","v":0},{"$f":"IF(F32=\"X\",P32*-Liquidazione!$P$37,0)","v":0},{"$f":"IF(F32=\"X\",P32*-Liquidazione!$P$38,0)","v":0},{"$f":"IF(F32=\"X\",P32*-Liquidazione!$P$39,0)","v":0},{"$f":"IF(G32=\"X\",P32*-Liquidazione!$Q$37,0)","v":0},{"$f":"IF(G32=\"X\",P32*-Liquidazione!$Q$38,0)","v":0},{"$f":"IF(G32=\"X\",P32*-Liquidazione!$Q$39,0)","v":0},{"$f":"IF(H32=\"X\",P32*-Liquidazione!$R$37,0)","v":0},{"$f":"IF(H32=\"X\",P32*-Liquidazione!$R$38,0)","v":0},{"$f":"IF(H32=\"X\",P32*-Liquidazione!$R$39,0)","v":0},{"$f":"IF(I32=\"X\",P32*Liquidazione!$S$37,0)","v":0},{"$f":"IF(I32=\"X\",P32*Liquidazione!$S$38,0)","v":0},{"$f":"IF(I32=\"X\",P32*Liquidazione!$S$39,0)","v":0},{"$f":"IF(J32=\"X\",P32*Liquidazione!$T$37,0)","v":0},{"$f":"IF(J32=\"X\",P32*Liquidazione!$T$38,0)","v":0},{"$f":"IF(J32=\"X\",P32*Liquidazione!$T$39,0)","v":0},{"$f":"IF(K32=\"X\",P32*Liquidazione!$U$37,0)","v":0},{"$f":"IF(K32=\"X\",P32*Liquidazione!$U$38,0)","v":0},{"$f":"IF(K32=\"X\",P32*Liquidazione!$U$39,0)","v":0},{"$f":"IF(L32=\"X\",P32*Liquidazione!$V$37,0)","v":0},{"$f":"IF(L32=\"X\",P32*Liquidazione!$V$38,0)","v":0},{"$f":"IF(L32=\"X\",P32*Liquidazione!$V$39,0)","v":0},{"$f":"IF(M32=\"X\",P32*Liquidazione!$W$37,0)","v":0},{"$f":"IF(M32=\"X\",P32*Liquidazione!$W$38,0)","v":0},{"$f":"IF(M32=\"X\",P32*Liquidazione!$W$39,0)","v":0},{"$f":"IF(N32=\"X\",P32*Liquidazione!$X$37,0)","v":0},{"$f":"IF(N32=\"X\",P32*Liquidazione!$X$38,0)","v":0},{"$f":"IF(N32=\"X\",P32*Liquidazione!$X$39,0)","v":0}]
[null,"Lotto 14",null,null,null,null,null,null,null,null,null,null,null,null,null,{"$f":"IF(C33>0,IF((C33-VLOOKUP(C33,Tabelle!$B$9:$E$14,1,TRUE))*VLOOKUP(C33,Tabelle!$B$9:$E$14,3,TRUE)+VLOOKUP(C33,Tabelle!$B$9:$E$14,4,TRUE)>250,(C33-VLOOKUP(C33,Tabelle!$B$9:$E$14,1,TRUE))*VLOOKUP(C33,Tabelle!$B$9:$E$14,3,TRUE)+VLOOKUP(C33,Tabelle!$B$9:$E$14,4,TRUE),250),0)","v":0},{"$f":"IF(Z33=0,IF(W33=0,IF(D33=\"X\",P33*-Liquidazione!$N$37,0),0),0)","v":0},{"$f":"IF(X33=0,IF(AA33=0,IF(D33=\"X\",P33*-Liquidazione!$N$38,0),0),0)","v":0},{"$f":"IF(Y33=0,IF(AB33=0,IF(D33=\"X\",P33*-Liquidazione!$N$39,0),0),0)","v":0},{"$f":"IF(E33=\"X\",P33*Liquidazione!$O$37,0)","v":0},{"$f":"IF(E33=\"X\",P33*Liquidazione!$O$38,0)","v":0},{"$f":"IF(E33=\"X\",P33*Liquidazione!$O$39,0)","v":0},{"$f":"IF(F33=\"X\",P33*-Liquidazione!$P$37,0)","v":0},{"$f":"IF(F33=\"X\",P33*-Liquidazione!$P$38,0)","v":0},{"$f":"IF(F33=\"X\",P33*-Liquidazione!$P$39,0)","v":0},{"$f":"IF(G33=\"X\",P33*-Liquidazione!$Q$37,0)","v":0},{"$f":"IF(G33=\"X\",P33*-Liquidazione!$Q$38,0)","v":0},{"$f":"IF(G33=\"X\",P33*-Liquidazione!$Q$39,0)","v":0},{"$f":"IF(H33=\"X\",P33*-Liquidazione!$R$37,0)","v":0},{"$f":"IF(H33=\"X\",P33*-Liquidazione!$R$38,0)","v":0},{"$f":"IF(H33=\"X\",P33*-Liquidazione!$R$39,0)","v":0},{"$f":"IF(I33=\"X\",P33*Liquidazione!$S$37,0)","v":0},{"$f":"IF(I33=\"X\",P33*Liquidazione!$S$38,0)","v":0},{"$f":"IF(I33=\"X\",P33*Liquidazione!$S$39,0)","v":0},{"$f":"IF(J33=\"X\",P33*Liquidazione!$T$37,0)","v":0},{"$f":"IF(J33=\"X\",P33*Liquidazione!$T$38,0)","v":0},{"$f":"IF(J33=\"X\",P33*Liquidazione!$T$39,0)","v":0},{"$f":"IF(K33=\"X\",P33*Liquidazione!$U$37,0)","v":0},{"$f":"IF(K33=\"X\",P33*Liquidazione!$U$38,0)","v":0},{"$f":"IF(K33=\"X\",P33*Liquidazione!$U$39,0)","v":0},{"$f":"IF(L33=\"X\",P33*Liquidazione!$V$37,0)","v":0},{"$f":"IF(L33=\"X\",P33*Liquidazione!$V$38,0)","v":0},{"$f":"IF(L33=\"X\",P33*Liquidazione!$V$39,0)","v":0},{"$f":"IF(M33=\"X\",P33*Liquidazione!$W$37,0)","v":0},{"$f":"IF(M33=\"X\",P33*Liquidazione!$W$38,0)","v":0},{"$f":"IF(M33=\"X\",P33*Liquidazione!$W$39,0)","v":0},{"$f":"IF(N33=\"X\",P33*Liquidazione!$X$37,0)","v":0},{"$f":"IF(N33=\"X\",P33*Liquidazione!$X$38,0)","v":0},{"$f":"IF(N33=\"X\",P33*Liquidazione!$X$39,0)","v":0}]
[null,"Lotto 15",null,null,null,null,null,null,null,null,null,null,null,null,null,{"$f":"IF(C34>0,IF((C34-VLOOKUP(C34,Tabelle!$B$9:$E$14,1,TRUE))*VLOOKUP(C34,Tabelle!$B$9:$E$14,3,TRUE)+VLOOKUP(C34,Tabelle!$B$9:$E$14,4,TRUE)>250,(C34-VLOOKUP(C34,Tabelle!$B$9:$E$14,1,TRUE))*VLOOKUP(C34,Tabelle!$B$9:$E$14,3,TRUE)+VLOOKUP(C34,Tabelle!$B$9:$E$14,4,TRUE),250),0)","v":0},{"$f":"IF(Z34=0,IF(W34=0,IF(D34=\"X\",P34*-Liquidazione!$N$37,0),0),0)","v":0},{"$f":"IF(X34=0,IF(AA34=0,IF(D34=\"X\",P34*-Liquidazione!$N$38,0),0),0)","v":0},{"$f":"IF(Y34=0,IF(AB34=0,IF(D34=\"X\",P34*-Liquidazione!$N$39,0),0),0)","v":0},{"$f":"IF(E34=\"X\",P34*Liquidazione!$O$37,0)","v":0},{"$f":"IF(E34=\"X\",P34*Liquidazione!$O$38,0)","v":0},{"$f":"IF(E34=\"X\",P34*Liquidazione!$O$39,0)","v":0},{"$f":"IF(F34=\"X\",P34*-Liquidazione!$P$37,0)","v":0},{"$f":"IF(F34=\"X\",P34*-Liquidazione!$P$38,0)","v":0},{"$f":"IF(F34=\"X\",P34*-Liquidazione!$P$39,0)","v":0},{"$f":"IF(G34=\"X\",P34*-Liquidazione!$Q$37,0)","v":0},{"$f":"IF(G34=\"X\",P34*-Liquidazione!$Q$38,0)","v":0},{"$f":"IF(G34=\"X\",P34*-Liquidazione!$Q$39,0)","v":0},{"$f":"IF(H34=\"X\",P34*-Liquidazione!$R$37,0)","v":0},{"$f":"IF(H34=\"X\",P34*-Liquidazione!$R$38,0)","v":0},{"$f":"IF(H34=\"X\",P34*-Liquidazione!$R$39,0)","v":0},{"$f":"IF(I34=\"X\",P34*Liquidazione!$S$37,0)","v":0},{"$f":"IF(I34=\"X\",P34*Liquidazione!$S$38,0)","v":0},{"$f":"IF(I34=\"X\",P34*Liquidazione!$S$39,0)","v":0},{"$f":"IF(J34=\"X\",P34*Liquidazione!$T$37,0)","v":0},{"$f":"IF(J34=\"X\",P34*Liquidazione!$T$38,0)","v":0},{"$f":"IF(J34=\"X\",P34*Liquidazione!$T$39,0)","v":0},{"$f":"IF(K34=\"X\",P34*Liquidazione!$U$37,0)","v":0},{"$f":"IF(K34=\"X\",P34*Liquidazione!$U$38,0)","v":0},{"$f":"IF(K34=\"X\",P34*Liquidazione!$U$39,0)","v":0},{"$f":"IF(L34=\"X\",P34*Liquidazione!$V$37,0)","v":0},{"$f":"IF(L34=\"X\",P34*Liquidazione!$V$38,0)","v":0},{"$f":"IF(L34=\"X\",P34*Liquidazione!$V$39,0)","v":0},{"$f":"IF(M34=\"X\",P34*Liquidazione!$W$37,0)","v":0},{"$f":"IF(M34=\"X\",P34*Liquidazione!$W$38,0)","v":0},{"$f":"IF(M34=\"X\",P34*Liquidazione!$W$39,0)","v":0},{"$f":"IF(N34=\"X\",P34*Liquidazione!$X$37,0)","v":0},{"$f":"IF(N34=\"X\",P34*Liquidazione!$X$38,0)","v":0},{"$f":"IF(N34=\"X\",P34*Liquidazione!$X$39,0)","v":0}]
[null,"Lotto 16",null,null,null,null,null,null,null,null,null,null,null,null,null,{"$f":"IF(C35>0,IF((C35-VLOOKUP(C35,Tabelle!$B$9:$E$14,1,TRUE))*VLOOKUP(C35,Tabelle!$B$9:$E$14,3,TRUE)+VLOOKUP(C35,Tabelle!$B$9:$E$14,4,TRUE)>250,(C35-VLOOKUP(C35,Tabelle!$B$9:$E$14,1,TRUE))*VLOOKUP(C35,Tabelle!$B$9:$E$14,3,TRUE)+VLOOKUP(C35,Tabelle!$B$9:$E$14,4,TRUE),250),0)","v":0},{"$f":"IF(Z35=0,IF(W35=0,IF(D35=\"X\",P35*-Liquidazione!$N$37,0),0),0)","v":0},{"$f":"IF(X35=0,IF(AA35=0,IF(D35=\"X\",P35*-Liquidazione!$N$38,0),0),0)","v":0},{"$f":"IF(Y35=0,IF(AB35=0,IF(D35=\"X\",P35*-Liquidazione!$N$39,0),0),0)","v":0},{"$f":"IF(E35=\"X\",P35*Liquidazione!$O$37,0)","v":0},{"$f":"IF(E35=\"X\",P35*Liquidazione!$O$38,0)","v":0},{"$f":"IF(E35=\"X\",P35*Liquidazione!$O$39,0)","v":0},{"$f":"IF(F35=\"X\",P35*-Liquidazione!$P$37,0)","v":0},{"$f":"IF(F35=\"X\",P35*-Liquidazione!$P$38,0)","v":0},{"$f":"IF(F35=\"X\",P35*-Liquidazione!$P$39,0)","v":0},{"$f":"IF(G35=\"X\",P35*-Liquidazione!$Q$37,0)","v":0},{"$f":"IF(G35=\"X\",P35*-Liquidazione!$Q$38,0)","v":0},{"$f":"IF(G35=\"X\",P35*-Liquidazione!$Q$39,0)","v":0},{"$f":"IF(H35=\"X\",P35*-Liquidazione!$R$37,0)","v":0},{"$f":"IF(H35=\"X\",P35*-Liquidazione!$R$38,0)","v":0},{"$f":"IF(H35=\"X\",P35*-Liquidazione!$R$39,0)","v":0},{"$f":"IF(I35=\"X\",P35*Liquidazione!$S$37,0)","v":0},{"$f":"IF(I35=\"X\",P35*Liquidazione!$S$38,0)","v":0},{"$f":"IF(I35=\"X\",P35*Liquidazione!$S$39,0)","v":0},{"$f":"IF(J35=\"X\",P35*Liquidazione!$T$37,0)","v":0},{"$f":"IF(J35=\"X\",P35*Liquidazione!$T$38,0)","v":0},{"$f":"IF(J35=\"X\",P35*Liquidazione!$T$39,0)","v":0},{"$f":"IF(K35=\"X\",P35*Liquidazione!$U$37,0)","v":0},{"$f":"IF(K35=\"X\",P35*Liquidazione!$U$38,0)","v":0},{"$f":"IF(K35=\"X\",P35*Liquidazione!$U$39,0)","v":0},{"$f":"IF(L35=\"X\",P35*Liquidazione!$V$37,0)","v":0},{"$f":"IF(L35=\"X\",P35*Liquidazione!$V$38,0)","v":0},{"$f":"IF(L35=\"X\",P35*Liquidazione!$V$39,0)","v":0},{"$f":"IF(M35=\"X\",P35*Liquidazione!$W$37,0)","v":0},{"$f":"IF(M35=\"X\",P35*Liquidazione!$W$38,0)","v":0},{"$f":"IF(M35=\"X\",P35*Liquidazione!$W$39,0)","v":0},{"$f":"IF(N35=\"X\",P35*Liquidazione!$X$37,0)","v":0},{"$f":"IF(N35=\"X\",P35*Liquidazione!$X$38,0)","v":0},{"$f":"IF(N35=\"X\",P35*Liquidazione!$X$39,0)","v":0}]
[null,"Lotto 17",null,null,null,null,null,null,null,null,null,null,null,null,null,{"$f":"IF(C36>0,IF((C36-VLOOKUP(C36,Tabelle!$B$9:$E$14,1,TRUE))*VLOOKUP(C36,Tabelle!$B$9:$E$14,3,TRUE)+VLOOKUP(C36,Tabelle!$B$9:$E$14,4,TRUE)>250,(C36-VLOOKUP(C36,Tabelle!$B$9:$E$14,1,TRUE))*VLOOKUP(C36,Tabelle!$B$9:$E$14,3,TRUE)+VLOOKUP(C36,Tabelle!$B$9:$E$14,4,TRUE),250),0)","v":0},{"$f":"IF(Z36=0,IF(W36=0,IF(D36=\"X\",P36*-Liquidazione!$N$37,0),0),0)","v":0},{"$f":"IF(X36=0,IF(AA36=0,IF(D36=\"X\",P36*-Liquidazione!$N$38,0),0),0)","v":0},{"$f":"IF(Y36=0,IF(AB36=0,IF(D36=\"X\",P36*-Liquidazione!$N$39,0),0),0)","v":0},{"$f":"IF(E36=\"X\",P36*Liquidazione!$O$37,0)","v":0},{"$f":"IF(E36=\"X\",P36*Liquidazione!$O$38,0)","v":0},{"$f":"IF(E36=\"X\",P36*Liquidazione!$O$39,0)","v":0},{"$f":"IF(F36=\"X\",P36*-Liquidazione!$P$37,0)","v":0},{"$f":"IF(F36=\"X\",P36*-Liquidazione!$P$38,0)","v":0},{"$f":"IF(F36=\"X\",P36*-Liquidazione!$P$39,0)","v":0},{"$f":"IF(G36=\"X\",P36*-Liquidazione!$Q$37,0)","v":0},{"$f":"IF(G36=\"X\",P36*-Liquidazione!$Q$38,0)","v":0},{"$f":"IF(G36=\"X\",P36*-Liquidazione!$Q$39,0)","v":0},{"$f":"IF(H36=\"X\",P36*-Liquidazione!$R$37,0)","v":0},{"$f":"IF(H36=\"X\",P36*-Liquidazione!$R$38,0)","v":0},{"$f":"IF(H36=\"X\",P36*-Liquidazione!$R$39,0)","v":0},{"$f":"IF(I36=\"X\",P36*Liquidazione!$S$37,0)","v":0},{"$f":"IF(I36=\"X\",P36*Liquidazione!$S$38,0)","v":0},{"$f":"IF(I36=\"X\",P36*Liquidazione!$S$39,0)","v":0},{"$f":"IF(J36=\"X\",P36*Liquidazione!$T$37,0)","v":0},{"$f":"IF(J36=\"X\",P36*Liquidazione!$T$38,0)","v":0},{"$f":"IF(J36=\"X\",P36*Liquidazione!$T$39,0)","v":0},{"$f":"IF(K36=\"X\",P36*Liquidazione!$U$37,0)","v":0},{"$f":"IF(K36=\"X\",P36*Liquidazione!$U$38,0)","v":0},{"$f":"IF(K36=\"X\",P36*Liquidazione!$U$39,0)","v":0},{"$f":"IF(L36=\"X\",P36*Liquidazione!$V$37,0)","v":0},{"$f":"IF(L36=\"X\",P36*Liquidazione!$V$38,0)","v":0},{"$f":"IF(L36=\"X\",P36*Liquidazione!$V$39,0)","v":0},{"$f":"IF(M36=\"X\",P36*Liquidazione!$W$37,0)","v":0},{"$f":"IF(M36=\"X\",P36*Liquidazione!$W$38,0)","v":0},{"$f":"IF(M36=\"X\",P36*Liquidazione!$W$39,0)","v":0},{"$f":"IF(N36=\"X\",P36*Liquidazione!$X$37,0)","v":0},{"$f":"IF(N36=\"X\",P36*Liquidazione!$X$38,0)","v":0},{"$f":"IF(N36=\"X\",P36*Liquidazione!$X$39,0)","v":0}]
[null,"Lotto 18",null,null,null,null,null,null,null,null,null,null,null,null,null,{"$f":"IF(C37>0,IF((C37-VLOOKUP(C37,Tabelle!$B$9:$E$14,1,TRUE))*VLOOKUP(C37,Tabelle!$B$9:$E$14,3,TRUE)+VLOOKUP(C37,Tabelle!$B$9:$E$14,4,TRUE)>250,(C37-VLOOKUP(C37,Tabelle!$B$9:$E$14,1,TRUE))*VLOOKUP(C37,Tabelle!$B$9:$E$14,3,TRUE)+VLOOKUP(C37,Tabelle!$B$9:$E$14,4,TRUE),250),0)","v":0},{"$f":"IF(Z37=0,IF(W37=0,IF(D37=\"X\",P37*-Liquidazione!$N$37,0),0),0)","v":0},{"$f":"IF(X37=0,IF(AA37=0,IF(D37=\"X\",P37*-Liquidazione!$N$38,0),0),0)","v":0},{"$f":"IF(Y37=0,IF(AB37=0,IF(D37=\"X\",P37*-Liquidazione!$N$39,0),0),0)","v":0},{"$f":"IF(E37=\"X\",P37*Liquidazione!$O$37,0)","v":0},{"$f":"IF(E37=\"X\",P37*Liquidazione!$O$38,0)","v":0},{"$f":"IF(E37=\"X\",P37*Liquidazione!$O$39,0)","v":0},{"$f":"IF(F37=\"X\",P37*-Liquidazione!$P$37,0)","v":0},{"$f":"IF(F37=\"X\",P37*-Liquidazione!$P$38,0)","v":0},{"$f":"IF(F37=\"X\",P37*-Liquidazione!$P$39,0)","v":0},{"$f":"IF(G37=\"X\",P37*-Liquidazione!$Q$37,0)","v":0},{"$f":"IF(G37=\"X\",P37*-Liquidazione!$Q$38,0)","v":0},{"$f":"IF(G37=\"X\",P37*-Liquidazione!$Q$39,0)","v":0},{"$f":"IF(H37=\"X\",P37*-Liquidazione!$R$37,0)","v":0},{"$f":"IF(H37=\"X\",P37*-Liquidazione!$R$38,0)","v":0},{"$f":"IF(H37=\"X\",P37*-Liquidazione!$R$39,0)","v":0},{"$f":"IF(I37=\"X\",P37*Liquidazione!$S$37,0)","v":0},{"$f":"IF(I37=\"X\",P37*Liquidazione!$S$38,0)","v":0},{"$f":"IF(I37=\"X\",P37*Liquidazione!$S$39,0)","v":0},{"$f":"IF(J37=\"X\",P37*Liquidazione!$T$37,0)","v":0},{"$f":"IF(J37=\"X\",P37*Liquidazione!$T$38,0)","v":0},{"$f":"IF(J37=\"X\",P37*Liquidazione!$T$39,0)","v":0},{"$f":"IF(K37=\"X\",P37*Liquidazione!$U$37,0)","v":0},{"$f":"IF(K37=\"X\",P37*Liquidazione!$U$38,0)","v":0},{"$f":"IF(K37=\"X\",P37*Liquidazione!$U$39,0)","v":0},{"$f":"IF(L37=\"X\",P37*Liquidazione!$V$37,0)","v":0},{"$f":"IF(L37=\"X\",P37*Liquidazione!$V$38,0)","v":0},{"$f":"IF(L37=\"X\",P37*Liquidazione!$V$39,0)","v":0},{"$f":"IF(M37=\"X\",P37*Liquidazione!$W$37,0)","v":0},{"$f":"IF(M37=\"X\",P37*Liquidazione!$W$38,0)","v":0},{"$f":"IF(M37=\"X\",P37*Liquidazione!$W$39,0)","v":0},{"$f":"IF(N37=\"X\",P37*Liquidazione!$X$37,0)","v":0},{"$f":"IF(N37=\"X\",P37*Liquidazione!$X$38,0)","v":0},{"$f":"IF(N37=\"X\",P37*Liquidazione!$X$39,0)","v":0}]
[null,"Lotto 19",null,null,null,null,null,null,null,null,null,null,null,null,null,{"$f":"IF(C38>0,IF((C38-VLOOKUP(C38,Tabelle!$B$9:$E$14,1,TRUE))*VLOOKUP(C38,Tabelle!$B$9:$E$14,3,TRUE)+VLOOKUP(C38,Tabelle!$B$9:$E$14,4,TRUE)>250,(C38-VLOOKUP(C38,Tabelle!$B$9:$E$14,1,TRUE))*VLOOKUP(C38,Tabelle!$B$9:$E$14,3,TRUE)+VLOOKUP(C38,Tabelle!$B$9:$E$14,4,TRUE),250),0)","v":0},{"$f":"IF(Z38=0,IF(W38=0,IF(D38=\"X\",P38*-Liquidazione!$N$37,0),0),0)","v":0},{"$f":"IF(X38=0,IF(AA38=0,IF(D38=\"X\",P38*-Liquidazione!$N$38,0),0),0)","v":0},{"$f":"IF(Y38=0,IF(AB38=0,IF(D38=\"X\",P38*-Liquidazione!$N$39,0),0),0)","v":0},{"$f":"IF(E38=\"X\",P38*Liquidazione!$O$37,0)","v":0},{"$f":"IF(E38=\"X\",P38*Liquidazione!$O$38,0)","v":0},{"$f":"IF(E38=\"X\",P38*Liquidazione!$O$39,0)","v":0},{"$f":"IF(F38=\"X\",P38*-Liquidazione!$P$37,0)","v":0},{"$f":"IF(F38=\"X\",P38*-Liquidazione!$P$38,0)","v":0},{"$f":"IF(F38=\"X\",P38*-Liquidazione!$P$39,0)","v":0},{"$f":"IF(G38=\"X\",P38*-Liquidazione!$Q$37,0)","v":0},{"$f":"IF(G38=\"X\",P38*-Liquidazione!$Q$38,0)","v":0},{"$f":"IF(G38=\"X\",P38*-Liquidazione!$Q$39,0)","v":0},{"$f":"IF(H38=\"X\",P38*-Liquidazione!$R$37,0)","v":0},{"$f":"IF(H38=\"X\",P38*-Liquidazione!$R$38,0)","v":0},{"$f":"IF(H38=\"X\",P38*-Liquidazione!$R$39,0)","v":0},{"$f":"IF(I38=\"X\",P38*Liquidazione!$S$37,0)","v":0},{"$f":"IF(I38=\"X\",P38*Liquidazione!$S$38,0)","v":0},{"$f":"IF(I38=\"X\",P38*Liquidazione!$S$39,0)","v":0},{"$f":"IF(J38=\"X\",P38*Liquidazione!$T$37,0)","v":0},{"$f":"IF(J38=\"X\",P38*Liquidazione!$T$38,0)","v":0},{"$f":"IF(J38=\"X\",P38*Liquidazione!$T$39,0)","v":0},{"$f":"IF(K38=\"X\",P38*Liquidazione!$U$37,0)","v":0},{"$f":"IF(K38=\"X\",P38*Liquidazione!$U$38,0)","v":0},{"$f":"IF(K38=\"X\",P38*Liquidazione!$U$39,0)","v":0},{"$f":"IF(L38=\"X\",P38*Liquidazione!$V$37,0)","v":0},{"$f":"IF(L38=\"X\",P38*Liquidazione!$V$38,0)","v":0},{"$f":"IF(L38=\"X\",P38*Liquidazione!$V$39,0)","v":0},{"$f":"IF(M38=\"X\",P38*Liquidazione!$W$37,0)","v":0},{"$f":"IF(M38=\"X\",P38*Liquidazione!$W$38,0)","v":0},{"$f":"IF(M38=\"X\",P38*Liquidazione!$W$39,0)","v":0},{"$f":"IF(N38=\"X\",P38*Liquidazione!$X$37,0)","v":0},{"$f":"IF(N38=\"X\",P38*Liquidazione!$X$38,0)","v":0},{"$f":"IF(N38=\"X\",P38*Liquidazione!$X$39,0)","v":0}]
[null,"Lotto 20",null,null,null,null,null,null,null,null,null,null,null,null,null,{"$f":"IF(C39>0,IF((C39-VLOOKUP(C39,Tabelle!$B$9:$E$14,1,TRUE))*VLOOKUP(C39,Tabelle!$B$9:$E$14,3,TRUE)+VLOOKUP(C39,Tabelle!$B$9:$E$14,4,TRUE)>250,(C39-VLOOKUP(C39,Tabelle!$B$9:$E$14,1,TRUE))*VLOOKUP(C39,Tabelle!$B$9:$E$14,3,TRUE)+VLOOKUP(C39,Tabelle!$B$9:$E$14,4,TRUE),250),0)","v":0},{"$f":"IF(Z39=0,IF(W39=0,IF(D39=\"X\",P39*-Liquidazione!$N$37,0),0),0)","v":0},{"$f":"IF(X39=0,IF(AA39=0,IF(D39=\"X\",P39*-Liquidazione!$N$38,0),0),0)","v":0},{"$f":"IF(Y39=0,IF(AB39=0,IF(D39=\"X\",P39*-Liquidazione!$N$39,0),0),0)","v":0},{"$f":"IF(E39=\"X\",P39*Liquidazione!$O$37,0)","v":0},{"$f":"IF(E39=\"X\",P39*Liquidazione!$O$38,0)","v":0},{"$f":"IF(E39=\"X\",P39*Liquidazione!$O$39,0)","v":0},{"$f":"IF(F39=\"X\",P39*-Liquidazione!$P$37,0)","v":0},{"$f":"IF(F39=\"X\",P39*-Liquidazione!$P$38,0)","v":0},{"$f":"IF(F39=\"X\",P39*-Liquidazione!$P$39,0)","v":0},{"$f":"IF(G39=\"X\",P39*-Liquidazione!$Q$37,0)","v":0},{"$f":"IF(G39=\"X\",P39*-Liquidazione!$Q$38,0)","v":0},{"$f":"IF(G39=\"X\",P39*-Liquidazione!$Q$39,0)","v":0},{"$f":"IF(H39=\"X\",P39*-Liquidazione!$R$37,0)","v":0},{"$f":"IF(H39=\"X\",P39*-Liquidazione!$R$38,0)","v":0},{"$f":"IF(H39=\"X\",P39*-Liquidazione!$R$39,0)","v":0},{"$f":"IF(I39=\"X\",P39*Liquidazione!$S$37,0)","v":0},{"$f":"IF(I39=\"X\",P39*Liquidazione!$S$38,0)","v":0},{"$f":"IF(I39=\"X\",P39*Liquidazione!$S$39,0)","v":0},{"$f":"IF(J39=\"X\",P39*Liquidazione!$T$37,0)","v":0},{"$f":"IF(J39=\"X\",P39*Liquidazione!$T$38,0)","v":0},{"$f":"IF(J39=\"X\",P39*Liquidazione!$T$39,0)","v":0},{"$f":"IF(K39=\"X\",P39*Liquidazione!$U$37,0)","v":0},{"$f":"IF(K39=\"X\",P39*Liquidazione!$U$38,0)","v":0},{"$f":"IF(K39=\"X\",P39*Liquidazione!$U$39,0)","v":0},{"$f":"IF(L39=\"X\",P39*Liquidazione!$V$37,0)","v":0},{"$f":"IF(L39=\"X\",P39*Liquidazione!$V$38,0)","v":0},{"$f":"IF(L39=\"X\",P39*Liquidazione!$V$39,0)","v":0},{"$f":"IF(M39=\"X\",P39*Liquidazione!$W$37,0)","v":0},{"$f":"IF(M39=\"X\",P39*Liquidazione!$W$38,0)","v":0},{"$f":"IF(M39=\"X\",P39*Liquidazione!$W$39,0)","v":0},{"$f":"IF(N39=\"X\",P39*Liquidazione!$X$37,0)","v":0},{"$f":"IF(N39=\"X\",P39*Liquidazione!$X$38,0)","v":0},{"$f":"IF(N39=\"X\",P39*Liquidazione!$X$39,0)","v":0}]
[null,null,null,null,null,null,null,null,null,null,null,null,null,null,null,{"$f":"SUM(P20:P39)","v":0},{"$f":"SUM(Q20:Q39)","v":0},0,0,0,0,0,0,0,0,0,0,0,0,0,0,0,0,0,0,0,0,0,0,0,0,0,0,0,0,0,0,0,0]

{"sheet":"Liquidazione","index":1,"n_rows":57,"n_cols":24,"rows_kept":57,"cut":false,"hidden":false,"merged":[[57,1,67,7],[19,0,19,7],[45,0,45,7],[56,0,56,7],[7,0,7,7],[28,0,28,7],[23,0,23,7],[18,0,18,7],[11,0,11,7],[27,0,27,7],[20,0,20,7],[0,0,0,7],[1,0,1,7],[3,0,3,7],[5,0,5,7],[9,0,9,7]]}
["TRIBUNALE DI ROMA"]
["IV SEZIONE CIVILE"]
[]
["ISTANZA DI LIQUIDAZIONE COMPENSI CUSTODE"]
[]
[{"$f":"CONCATENATE(\"Procedura esecutiva nr. \",'Inserimento dati'!D4,\" - Anno \",'Inserimento dati'!F4)","v":"Procedura esecutiva nr.  - Anno "}]
[]
[{"$f":"CONCATENATE(\"Il sottoscritto custode, \",'Inserimento dati'!D8,\" \",'Inserimento dati'!F8,\" \", 'Inserimento dati'!I8,\" codice fiscale \",'Inserimento dati'!F10,\", eMail \",'Inserimento dati'!I10,\" a conclusione dell'incarico conferito nella procedura esecutiva in epigrafe indicata, visti i DD.MM. 80/2009 e 313/1999,\")","v":"Il sottoscritto custode,    codice fiscale , eMail  a conclusione dell'incarico conferito nella procedura esecutiva in epigrafe indicata, visti i DD.MM. 80/2009 e 313/1999,"}]
[]
["CHIEDE"]
[]
["la liquidazione delle competenze maturate e delle spese sostenute per lo svolgimento dell'incarico."]
[]
["A tal fine rappresenta che:"]
[{"$f":"CONCATENATE(\"1) Oggetto della procedura esecutiva sono n. \",O15,\" lotti;\")","v":"1) Oggetto della procedura esecutiva sono n. 0 lotti;"},null,null,null,null,null,null,null,null,null,null,null,null,{"$f":"COUNTBLANK('Inserimento dati'!C20:C39)","v":20},{"$f":"20-N15","v":0}]
[{"$f":"CONCATENATE(\"2) Il valore complessivo del compendio pignorato è pari a euro \")","v":"2) Il valore complessivo del compendio pignorato è pari a euro "},null,null,null,null,null,{"$f":"O16","v":0},null,null,null,null,null,null,null,{"$f":"SUM('Inserimento dati'!C20:C39)","v":0}]
["3) L'importo complessivo dei frutti civili percepiti è pari a euro",null,null,null,null,null,{"$f":"O17","v":0},null,null,null,null,null,null,null,{"$f":"'Inserimento dati'!H14","v":0}]
[]
["Rileva, altresì, che si sono verificate le seguenti ipotesi espressamente disiciplinate dal D.M. 80/2009:"]
[{"$f":"CONCATENATE(\"A) L'incarico aveva ad oggetto beni liberi o ha presentanto profili di ridotta complessità per n.\",O20,\" \",P20,\";\")","v":"A) L'incarico aveva ad oggetto beni liberi o ha presentanto profili di ridotta complessità per n.0 lotti;"},null,null,null,null,null,null,null,null,null,null,null,null,{"$f":"COUNTBLANK('Inserimento dati'!D20:D39)","v":20},{"$f":"20-N20","v":0},{"$f":"IF(O20=1,\"lotto\",\"lotti\")","v":"lotti"}]
[{"$f":"CONCATENATE(\"B) L'incarico ha presetanto profili di eccezionale difficoltà  per n.\",O21,\" lotti;\")","v":"B) L'incarico ha presetanto profili di eccezionale difficoltà  per n.0 lotti;"},null,null,null,null,null,null,null,null,null,null,null,null,{"$f":"COUNTBLANK('Inserimento dati'!E20:E39)","v":20},0,{"$f":"IF(O21=1,\"lotto\",\"lotti\")","v":"lotti"}]
[{"$f":"CONCATENATE(\"C) L'incarico è cessato prima dell'emissione dell'ordinanza di vendita per n.\",O22,\" lotti;\")","v":"C) L'incarico è cessato prima dell'emissione dell'ordinanza di vendita per n.0 lotti;"},null,null,null,null,null,null,null,null,null,null,null,null,{"$f":"COUNTBLANK('Inserimento dati'!F20:F39)","v":20},0,"lotti"]
[{"$f":"CONCATENATE(\"D) L'incarico è iniziato dalla emissione della ordinanza di vendita per n.\",O23,\" \",P23,\";\")","v":"D) L'incarico è iniziato dalla emissione della ordinanza di vendita per n.0 lotti;"},null,null,null,null,null,null,null,null,null,null,null,null,{"$f":"COUNTBLANK('Inserimento dati'!G20:G39)","v":20},0,"lotti"]
[{"$f":"CONCATENATE(\"E) Cessazione dell'incarico, inefficacia del pignoramento, sospensione o estinzione del processo prima della vendita per n.\",O24,\" \",P24,\";\")","v":"E) Cessazione dell'incarico, inefficacia del pignoramento, sospensione o estinzione del processo prima della vendita per n.0 lotti;"},null,null,null,null,null,null,null,null,null,null,null,null,{"$f":"COUNTBLANK('Inserimento dati'!H20:H39)","v":20},0,"lotti"]
[{"$f":"CONCATENATE(\"F) Sono state intraprese azioni giudiziairie per n.\",O25,\" \",P25,\";\")","v":"F) Sono state intraprese azioni giudiziairie per n.0 lotti;"},null,null,null,null,null,null,null,null,null,null,null,null,{"$f":"COUNTBLANK('Inserimento dati'!I20:I39)","v":20},0,"lotti"]
[{"$f":"CONCATENATE(\"G) Si è partecipato ad assemblee condominiali per n.\",O26,\" \",P26,\";\")","v":"G) Si è partecipato ad assemblee condominiali per n.0 lotti;"},null,null,null,null,null,null,null,null,null,null,null,null,{"$f":"COUNTBLANK('Inserimento dati'!J20:J39)","v":20},0,"lotti"]
[{"$f":"CONCATENATE(\"H) Si è provveduto ad Interventi di manutenzione ordinaria o straordinaria per n.\",O27,\" \",P27,\";\")","v":"H) Si è provveduto ad Interventi di manutenzione ordinaria o straordinaria per n.0 lotti;"},null,null,null,null,null,null,null,null,null,null,null,null,{"$f":"COUNTBLANK('Inserimento dati'!K20:K39)","v":20},0,"lotti"]
[{"$f":"CONCATENATE(\"I) Si è provveduto alla regolarizzazione catastale, urbanistica ed edilizia degli immobili per n.\",O28,\" \",P28,\";\")","v":"I) Si è provveduto alla regolarizzazione catastale, urbanistica ed edilizia degli immobili per n.0 lotti;"},null,null,null,null,null,null,null,null,null,null,null,null,{"$f":"COUNTBLANK('Inserimento dati'!L20:L39)","v":20},0,"lotti"]
[{"$f":"CONCATENATE(\"L) Si è assunta la direzione e il controllo delle attivita' di asporto e trasferimento presso un depositario delle cose mobili appartenenti al debitore o a terzi rinvenute nell'immobile pignorato per n.\",O29,\" \",P29,\";\")","v":"L) Si è assunta la direzione e il controllo delle attivita' di asporto e trasferimento presso un depositario delle cose mobili appartenenti al debitore o a terzi rinvenute nell'immobile pignorato per n.0 lotti;"},null,null,null,null,null,null,null,null,null,null,null,null,{"$f":"COUNTBLANK('Inserimento dati'!M20:M39)","v":20},0,"lotti"]
[{"$f":"CONCATENATE(\"M) Si è attuato l'ordine di liberazione per n.\",O30,\" \",P30,\".\")","v":"M) Si è attuato l'ordine di liberazione per n.0 lotti."},null,null,null,null,null,null,null,null,null,null,null,null,{"$f":"COUNTBLANK('Inserimento dati'!N20:N39)","v":20},0,"lotti"]
[{"$f":"CONCATENATE(\"N) Sono state sostenute spese non imponibili per euro: \")","v":"N) Sono state sostenute spese non imponibili per euro: "},null,null,null,null,null,{"$f":"'Inserimento dati'!F14","v":0}]
["O) Sono state sostenute spese imponibili per euro:",null,null,null,null,null,{"$f":"'Inserimento dati'!D14","v":0}]
[]
["Evidenzia, quindi, che in relazione alle attività svolte spettano i seguenti compensi:"]
[]
[null,null,null,null,null,"Minimo","Medio","Massimo",null,null,null,"Compenso base","Compenso canoni","A","B","C","D","E","F","G","H","I","L","M"]
["Compensi relativi alla custodia",null,null,null,null,{"$f":"IF(L37+M37>250,L37+M37,250)","v":250},{"$f":"IF(L38+M37>250,L38+M37,250)","v":250},{"$f":"IF(L39+M37>250,L39+M37,250)","v":250},null,null,"min",{"$f":"'Inserimento dati'!P40+'Inserimento dati'!Q40+'Inserimento dati'!T40+'Inserimento dati'!W40+'Inserimento dati'!Z40+'Inserimento dati'!AC40+'Inserimento dati'!AF40+'Inserimento dati'!AI40+'Inserimento dati'!AL40+'Inserimento dati'!AO40+'Inserimento dati'!AR40+'Inserimento dati'!AU40","v":0},{"$f":"'Inserimento dati'!H14*VLOOKUP('Inserimento dati'!H14,Tabelle!B18:E19,3,TRUE)+VLOOKUP('Inserimento dati'!H14,Tabelle!B18:E19,4,TRUE)","v":0},{"$f":"Tabelle!C23","v":0.5},{"$f":"Tabelle!C24","v":6.6000000000000003E-2},{"$f":"Tabelle!C25","v":0.6},{"$f":"Tabelle!C26","v":0.6},{"$f":"Tabelle!C27","v":0.3},{"$f":"Tabelle!C28","v":0.05},{"$f":"Tabelle!C29","v":0.05},{"$f":"Tabelle!C30","v":0.05},{"$f":"Tabelle!C31","v":0.05},{"$f":"Tabelle!C32","v":0.05},{"$f":"Tabelle!C33","v":0.2}]
["Rimborso spese forfettarie custodia (10%)",null,null,null,null,{"$f":"F37*Tabelle!D37","v":25},{"$f":"G37*Tabelle!D37","v":25},{"$f":"H37*Tabelle!D37","v":25},null,null,"med",{"$f":"'Inserimento dati'!P40+'Inserimento dati'!R40+'Inserimento dati'!U40+'Inserimento dati'!X40+'Inserimento dati'!AA40+'Inserimento dati'!AD40+'Inserimento dati'!AG40+'Inserimento dati'!AJ40+'Inserimento dati'!AM40+'Inserimento dati'!AP40+'Inserimento dati'!AS40+'Inserimento dati'!AV40","v":0},null,{"$f":"Tabelle!D23","v":0.33400000000000002},{"$f":"Tabelle!D24","v":0.13200000000000001},{"$f":"Tabelle!D25","v":0.5},{"$f":"Tabelle!D26","v":0.5},{"$f":"Tabelle!D27","v":0.2},{"$f":"Tabelle!D28","v":0.125},{"$f":"Tabelle!D29","v":0.125},{"$f":"Tabelle!D30","v":0.125},{"$f":"Tabelle!D31","v":0.125},{"$f":"Tabelle!D32","v":0.125},{"$f":"Tabelle!D33","v":0.2}]
["Spese documentate imponibili",null,null,null,null,{"$f":"'Inserimento dati'!D14","v":0},{"$f":"'Inserimento dati'!D14","v":0},{"$f":"'Inserimento dati'!D14","v":0},null,null,"max",{"$f":"'Inserimento dati'!P40+'Inserimento dati'!S40+'Inserimento dati'!V40+'Inserimento dati'!Y40+'Inserimento dati'!AB40+'Inserimento dati'!AE40+'Inserimento dati'!AH40+'Inserimento dati'!AK40+'Inserimento dati'!AN40+'Inserimento dati'!AQ40+'Inserimento dati'!AT40+'Inserimento dati'!AW40","v":0},null,{"$f":"Tabelle!E23","v":0.16400000000000001},{"$f":"Tabelle!E24","v":0.2},{"$f":"Tabelle!E25","v":0.4},{"$f":"Tabelle!E26","v":0.4},{"$f":"Tabelle!E27","v":0.1},{"$f":"Tabelle!E28","v":0.2},{"$f":"Tabelle!E29","v":0.2},{"$f":"Tabelle!E30","v":0.2},{"$f":"Tabelle!E31","v":0.2},{"$f":"Tabelle!E32","v":0.2},{"$f":"Tabelle!E33","v":0.2}]
["Oneri previdenziali",null,null,null,null,{"$f":"ROUND(IF('Inserimento dati'!$D$8=\"Avvocato\",(Liquidazione!F37+Liquidazione!F38+Liquidazione!F39)*Tabelle!$D$39,IF('Inserimento dati'!$D$8=\"Comm.sta\",(Liquidazione!F37+Liquidazione!F38+Liquidazione!F39)*Tabelle!$D$40,0)),2)","v":0},{"$f":"ROUND(IF('Inserimento dati'!$D$8=\"Avvocato\",(Liquidazione!G37+Liquidazione!G38+Liquidazione!G39)*Tabelle!$D$39,IF('Inserimento dati'!$D$8=\"Comm.sta\",(Liquidazione!G37+Liquidazione!G38+Liquidazione!G39)*Tabelle!$D$40,0)),2)","v":0},{"$f":"ROUND(IF('Inserimento dati'!$D$8=\"Avvocato\",(Liquidazione!H37+Liquidazione!H38+Liquidazione!H39)*Tabelle!$D$39,IF('Inserimento dati'!$D$8=\"Comm.sta\",(Liquidazione!H37+Liquidazione!H38+Liquidazione!H39)*Tabelle!$D$40,0)),2)","v":0}]
["I.V.A.",null,null,null,null,{"$f":"(F40+F39+F38+F37)*Tabelle!$D$38","v":60.5},{"$f":"(G40+G39+G38+G37)*Tabelle!$D$38","v":60.5},{"$f":"(H40+H39+H38+H37)*Tabelle!$D$38","v":60.5}]
["Spese documentate non imponibili",null,null,null,null,{"$f":"'Inserimento dati'!$F$14","v":0},{"$f":"'Inserimento dati'!$F$14","v":0},{"$f":"'Inserimento dati'!$F$14","v":0}]
["Totale",null,null,null,null,{"$f":"SUM(F37:F42)","v":335.5},{"$f":"SUM(G37:G42)","v":335.5},335.5]
[]
[]
["Il custode dichiara sotto la propria responsabilità che la presente nota dei compensi e delle spese spettanti è stata predisposta utilizzando ESCLUSIVAMENTE il foglio di lavoro messo a disposizione dal Tribunale di Roma ed estratto dal sito www.tribunale.roma.it"]
["Si allegano le schede riassuntive dei dati inseriti"]
[]
["Roma, "]
[null,null,null,null,null,null,"Il Custode"]
[]
[]
[]
[]
[]
[]
["Le motivazioni per cui si ritiene che per l'incarico si configurino i requisiti della eccezionale complessità sono le seguenti:"]

{"sheet":"Tabelle","index":2,"n_rows":41,"n_cols":8,"rows_kept":41,"cut":false,"hidden":true,"merged":[[37,1,37,2],[38,1,38,2],[39,1,39,2],[40,1,40,2],[36,1,36,2]]}
[]
[null,"Titolo"]
[null,"Avvocato"]
[null,"Comm.sta"]
[null,"Altro"]
[]
[null,"Scaglioni compenso su valore immobili"]
[null,"Da","A","Perc.","Max scag.prec."]
[null,0,25000,0.03,0]
[null,25000.01,100000,0.01,750,null,null,{"$f":"75000*D10","v":750}]
[null,100000.01,200000,8.0000000000000002E-3,1500]
[null,200000.01,300000,7.0000000000000001E-3,2300,null,null,{"$f":"64000/100*0.7","v":448}]
[null,300000.01,500000,5.0000000000000001E-3,3000]
[null,500000.01,0,3.0000000000000001E-3,4000]
[]
[null,"Scaglioni compenso su riscossione frutti civili"]
[null,"Da","A","Perc.","Max scag.prec."]
[null,0,5000,0.04]
[null,5000.01,0,0.03,200]
[]
[null,"Percentuali di maggiorazione o di riduzione del compenso "]
[null,null,"MIN","MED","MAX"]
[null,"A",0.5,0.33400000000000002,0.16400000000000001,"Immobile libero o incarico di ridotta complessità "]
[null,"B",6.6000000000000003E-2,0.13200000000000001,0.2,"Eccezionali difficoltà nello svolgimento dell'incarico"]
[null,"C",0.6,0.5,0.4,"Cessazione dell'incarico, inefficacia del pignoramento, sospensione o estinzione del processo prima della emissione dell'ordinanza di vendita"]
[null,"D",0.6,0.5,0.4,"Inizio dell'incarico dalla emissione della ordinanza di vendita"]
[null,"E",0.3,0.2,0.1,"Cessazione dell'incarico, inefficacia del pignoramento, sospensione o estinzione del processo prima della vendita"]
[null,"F",0.05,0.125,0.2,"Azioni per la convalida della licenza o dello sfratto per finita locazione o per morosita' e promozione di ogni altra azione, anche esecutiva, occorrente per conseguire la disponibilità del bene"]
[null,"G",0.05,0.125,0.2,"Partecipazione alle assemblee condominiali"]
[null,"H",0.05,0.125,0.2,"Interventi di manutenzione ordinaria o straordinaria"]
[null,"I",0.05,0.125,0.2,"Regolarizzazione catastale, urbanistica ed edilizia degli immobili"]
[null,"L",0.05,0.125,0.2,"Direzione e controllo delle attivita' di asporto e trasferimento presso un depositario delle cose mobili appartenenti al debitore o a terzi rinvenute nell'immobile pignorato"]
[null,"M",0.2,0.2,0.2,"Attuazione dell'ordine di liberazione"]
[]
[null,"Dati Calcolo oneri"]
[null,"Descrizione",null,"%"]
[null,"Rimb.Spese Forfetario",null,0.1]
[null,"IVA",null,0.22]
[null,"Cassa avvocati",null,0.04]
[null,"Cassa commercialisti",null,0.04]
[null,"Cassa notai",null,0]